BEGIN:VCALENDAR
VERSION:2.0
PRODID:-//Tennessee School of Beauty - ECPv6.15.20//NONSGML v1.0//EN
CALSCALE:GREGORIAN
METHOD:PUBLISH
X-WR-CALNAME:Tennessee School of Beauty
X-ORIGINAL-URL:https://tennesseeschoolofbeauty.edu
X-WR-CALDESC:Events for Tennessee School of Beauty
REFRESH-INTERVAL;VALUE=DURATION:PT1H
X-Robots-Tag:noindex
X-PUBLISHED-TTL:PT1H
BEGIN:VTIMEZONE
TZID:America/New_York
BEGIN:DAYLIGHT
TZOFFSETFROM:-0500
TZOFFSETTO:-0400
TZNAME:EDT
DTSTART:20250309T070000
END:DAYLIGHT
BEGIN:STANDARD
TZOFFSETFROM:-0400
TZOFFSETTO:-0500
TZNAME:EST
DTSTART:20251102T060000
END:STANDARD
BEGIN:DAYLIGHT
TZOFFSETFROM:-0500
TZOFFSETTO:-0400
TZNAME:EDT
DTSTART:20260308T070000
END:DAYLIGHT
BEGIN:STANDARD
TZOFFSETFROM:-0400
TZOFFSETTO:-0500
TZNAME:EST
DTSTART:20261101T060000
END:STANDARD
BEGIN:DAYLIGHT
TZOFFSETFROM:-0500
TZOFFSETTO:-0400
TZNAME:EDT
DTSTART:20270314T070000
END:DAYLIGHT
BEGIN:STANDARD
TZOFFSETFROM:-0400
TZOFFSETTO:-0500
TZNAME:EST
DTSTART:20271107T060000
END:STANDARD
END:VTIMEZONE
BEGIN:VEVENT
DTSTART;VALUE=DATE:20260421
DTEND;VALUE=DATE:20260502
DTSTAMP:20260425T135349
CREATED:20260109T170035Z
LAST-MODIFIED:20260225T184221Z
UID:7593-1776729600-1777679999@tennesseeschoolofbeauty.edu
SUMMARY:Advanced Esthetics for Cosmetology: April 21
DESCRIPTION:Certification Type:\nCertificate of completion for course & dermaplaning certification \nLength of Class:\n8 Days (April 21 – April 24 [Tues – Fri] + April 28 – May 1 [Tues – Fri]) 8:30am to 4:30pm \nPrice: (includes kit and binder)\n$2\,995 – Licensed Cosmetologists ; TSB Students or grads – $2\,695 ; TSB NEW students enrolling prior to orientation – $2\,246 \nPrerequisites:\nOpen to students currently enrolled in cosmetology at TSB and licensed cosmetologists \nRegister Online\n\nWhat you’ll learn:\nTheory in many aspects of skin science including anatomy\, skin types and conditions\, skin analysis\, skincare ingredients\, modalities\, treatment protocols\, and more. Students will also receive hands-on training (through performing and receiving) in facials\, microdermabrasion\, LED therapy\, high frequency\, jelly masks\, dermaplaning\, lash lift\, brow lamination\, and tinting. \nInstructor bio:\nOlivia Asano is a licensed esthetician with deep knowledge and experience in skin physiology\, paramedical esthetics\, acne treatment\, lash and brow services\, and more. Liv has been an esthetics instructor at Tennessee School of Beauty for over two years and is dedicated to helping students build their skills\, confidence\, and professional identity in the treatment room. \nFAQ’s:\nDo I need to bring anything for class?\nStudents will need to bring a pump hand sanitizer to class each day. Everything else (including supplies and note taking materials) will be provided in kit. \nDo I need to bring my own model?\nNo\, all skills will be performed on one another in class.
URL:https://tennesseeschoolofbeauty.edu/classes/advanced-esthetics-for-cosmetology-april-21/
LOCATION:Tennessee School of Beauty\, 4704 Western Avenue\, Knoxville\, Tennessee\, 37921\, United States
CATEGORIES:Open to licensed cosmetologists or TSB students
ORGANIZER;CN="Center for Continuing Education & Advanced Certifications at TSB":MAILTO:admissions@tennesseeschoolofbeauty.edu
END:VEVENT
BEGIN:VEVENT
DTSTART;VALUE=DATE:20260614
DTEND;VALUE=DATE:20260616
DTSTAMP:20260425T135350
CREATED:20260108T204629Z
LAST-MODIFIED:20260225T184018Z
UID:7585-1781395200-1781567999@tennesseeschoolofbeauty.edu
SUMMARY:Babe Hair Extensions: June 14 & 15
DESCRIPTION:Babe Hair Extensions Certification Class\nProgram Details\n\nCost: (includes full Babe kit) $1\,245 – Licensed Cosmetologists ; TSB Students or grads – $1\,120 ; TSB NEW students enrolling prior to orientation – $934\n\nSchedule: 2 days – Sunday & Monday\, 9:00 AM to 3:00 PM \n\n\nFormat: Daytime only \n\n\nRegister Online\n\nWhat You’ll Learn\nThis certification course covers four professional extension methods: \n\n\nTape-In \n\n\nFusion \n\n\nTape/Fusion Beaded \n\n\nSew-In Weft \n\n\nAdmissions Requirements\n\n\n500+ Tennessee School of Beauty hours or \n\n\nCurrent cosmetology license \n\n\nAdditional Information\n\n\nFinancial Aid: Not available \n\n\nAdditional Costs: None beyond tuition \n\n\nRegistration Deadline: Recommended at least 2 weeks before class start date\, registration closes one week prior to class start date
URL:https://tennesseeschoolofbeauty.edu/classes/babe-hair-extensions-june-14-15/
LOCATION:Tennessee School of Beauty\, 4704 Western Avenue\, Knoxville\, Tennessee\, 37921\, United States
CATEGORIES:Open to licensed cosmetologists or TSB students
ORGANIZER;CN="Center for Continuing Education & Advanced Certifications at TSB":MAILTO:admissions@tennesseeschoolofbeauty.edu
END:VEVENT
BEGIN:VEVENT
DTSTART;VALUE=DATE:20261005
DTEND;VALUE=DATE:20261008
DTSTAMP:20260425T135350
CREATED:20260118T185001Z
LAST-MODIFIED:20260225T185745Z
UID:7618-1791158400-1791417599@tennesseeschoolofbeauty.edu
SUMMARY:Sugarlash Pro Eyelash Extensions
DESCRIPTION:Certification type– Participants will receive a certificate from TSB\, and can able to obtain an additional certification from Sugarlash Pro directly once the class is completed. \nLength of class–\n3 days; 8:30am-4:30pm \nPrice–\n$1\,995- (Licensed Professionals & Non-TSB Grads)\n$1\,795- (TSB Alumni & Current Students)\n$1\,496- (TSB NEW students enrolling prior to orientation) \nRegister Online\n\nWhat you’ll learn-\n-Sanitation\, application\, and removal for\n-Classic Eyelash Extensions\n-Hybrid Eyelash Extensions\n-Volume Eyelash  Extensions\n-Necessary maintenance required for lash extensions\n-Current industry pricing guides \nOther Benefits–\n-Graduates receive 20% off all Sugarlash Pro supplies online (with TSB Lash Graduate Discount Code) \nFAQs\nDo I need to be a licensed cosmetologist or esthetician to enroll?\nThis class is only open to TSB students\, as well as licensed professionals\nDo I need to bring my own model?\nYes\, students will work on a total of (3) models. Students will be required to supply their own models.
URL:https://tennesseeschoolofbeauty.edu/classes/sugarlash-pro-eyelash-extensions-2/
CATEGORIES:Open to licensed cosmetologists or TSB students
END:VEVENT
BEGIN:VEVENT
DTSTART;VALUE=DATE:20261020
DTEND;VALUE=DATE:20261031
DTSTAMP:20260425T135350
CREATED:20260109T194317Z
LAST-MODIFIED:20260225T184157Z
UID:7602-1792454400-1793404799@tennesseeschoolofbeauty.edu
SUMMARY:Advanced Esthetics for Cosmetology: October 20
DESCRIPTION:Certification Type:\nCertificate of completion for course & dermaplaning certification \nLength of Class:\n8 Days (October 20 – 23 [Tues – Fri] + October 27 – 30 [Tues – Fri]) 8:30am to 4:30pm \nPrice: (includes kit and binder)\n$2\,995 – Licensed Cosmetologists ; TSB Students or grads – $2\,695 ; TSB NEW students enrolling prior to orientation – $2\,246 \nPrerequisites:\nOpen to students currently enrolled in cosmetology at TSB and licensed cosmetologists \nRegister Online\n\nWhat you’ll learn:\nTheory in many aspects of skin science including anatomy\, skin types and conditions\, skin analysis\, skincare ingredients\, modalities\, treatment protocols\, and more. Students will also receive hands-on training (through performing and receiving) in facials\, microdermabrasion\, LED therapy\, high frequency\, jelly masks\, dermaplaning\, lash lift\, brow lamination\, and tinting. \nInstructor bio:\nOlivia Asano is a licensed esthetician with deep knowledge and experience in skin physiology\, paramedical esthetics\, acne treatment\, lash and brow services\, and more. Liv has been an esthetics instructor at Tennessee School of Beauty for over two years and is dedicated to helping students build their skills\, confidence\, and professional identity in the treatment room. \nFAQ’s:\nDo I need to bring anything for class?\nStudents will need to bring a pump hand sanitizer to class each day. Everything else (including supplies and note taking materials) will be provided in kit. \nDo I need to bring my own model?\nNo\, all skills will be performed on one another in class.
URL:https://tennesseeschoolofbeauty.edu/classes/advanced-esthetics-for-cosmetology-october-20/
LOCATION:Tennessee School of Beauty\, 4704 Western Avenue\, Knoxville\, Tennessee\, 37921\, United States
CATEGORIES:Open to licensed cosmetologists or TSB students
ORGANIZER;CN="Center for Continuing Education & Advanced Certifications at TSB":MAILTO:admissions@tennesseeschoolofbeauty.edu
END:VEVENT
BEGIN:VEVENT
DTSTART;VALUE=DATE:20261114
DTEND;VALUE=DATE:20261116
DTSTAMP:20260425T135350
CREATED:20260108T204908Z
LAST-MODIFIED:20260225T183931Z
UID:7587-1794614400-1794787199@tennesseeschoolofbeauty.edu
SUMMARY:Babe Hair Extensions: Nov 15 & 16
DESCRIPTION:Babe Hair Extensions Certification Class\nProgram Details\n\n\nCost: (includes full Babe kit) $1\,245 – Licensed Cosmetologists ; TSB Students or grads – $1\,120 ; TSB NEW students enrolling prior to orientation – $934 \n\n\nSchedule: 2 days – Sunday & Monday\, 9:00 AM to 3:00 PM \n\n\nFormat: Daytime only \n\n\nRegister Online\n\nWhat You’ll Learn\nThis certification course covers four professional extension methods: \n\n\nTape-In \n\n\nFusion \n\n\nTape/Fusion Beaded \n\n\nSew-In Weft \n\n\nAdmissions Requirements\n\n\n500+ Tennessee School of Beauty hours or \n\n\nCurrent cosmetology license \n\n\nAdditional Information\n\n\nFinancial Aid: Not available \n\n\nAdditional Costs: None beyond tuition \n\n\nRegistration Deadline: Recommended at least 2 weeks before class start date\, registration closes one week prior to class start date
URL:https://tennesseeschoolofbeauty.edu/classes/babe-hair-extensions-nov-15-16/
LOCATION:Tennessee School of Beauty\, 4704 Western Avenue\, Knoxville\, Tennessee\, 37921\, United States
CATEGORIES:Open to licensed cosmetologists or TSB students
ORGANIZER;CN="Center for Continuing Education & Advanced Certifications at TSB":MAILTO:admissions@tennesseeschoolofbeauty.edu
END:VEVENT
END:VCALENDAR