BEGIN:VCALENDAR
VERSION:2.0
PRODID:-//Tennessee School of Beauty - ECPv6.15.20//NONSGML v1.0//EN
CALSCALE:GREGORIAN
METHOD:PUBLISH
X-WR-CALNAME:Tennessee School of Beauty
X-ORIGINAL-URL:https://tennesseeschoolofbeauty.edu
X-WR-CALDESC:Events for Tennessee School of Beauty
REFRESH-INTERVAL;VALUE=DURATION:PT1H
X-Robots-Tag:noindex
X-PUBLISHED-TTL:PT1H
BEGIN:VTIMEZONE
TZID:America/New_York
BEGIN:DAYLIGHT
TZOFFSETFROM:-0500
TZOFFSETTO:-0400
TZNAME:EDT
DTSTART:20250309T070000
END:DAYLIGHT
BEGIN:STANDARD
TZOFFSETFROM:-0400
TZOFFSETTO:-0500
TZNAME:EST
DTSTART:20251102T060000
END:STANDARD
BEGIN:DAYLIGHT
TZOFFSETFROM:-0500
TZOFFSETTO:-0400
TZNAME:EDT
DTSTART:20260308T070000
END:DAYLIGHT
BEGIN:STANDARD
TZOFFSETFROM:-0400
TZOFFSETTO:-0500
TZNAME:EST
DTSTART:20261101T060000
END:STANDARD
BEGIN:DAYLIGHT
TZOFFSETFROM:-0500
TZOFFSETTO:-0400
TZNAME:EDT
DTSTART:20270314T070000
END:DAYLIGHT
BEGIN:STANDARD
TZOFFSETFROM:-0400
TZOFFSETTO:-0500
TZNAME:EST
DTSTART:20271107T060000
END:STANDARD
END:VTIMEZONE
BEGIN:VEVENT
DTSTART;VALUE=DATE:20260406
DTEND;VALUE=DATE:20260409
DTSTAMP:20260425T172531
CREATED:20260118T184840Z
LAST-MODIFIED:20260225T185818Z
UID:7616-1775433600-1775692799@tennesseeschoolofbeauty.edu
SUMMARY:Sugarlash Pro Eyelash Extensions
DESCRIPTION:Certification type– Participants will receive a certificate from TSB\, and can able to obtain an additional certification from Sugarlash Pro directly once the class is completed. \nLength of class–\n3 days; 8:30am-4:30pm \nPrice–\n$1\,995- (Licensed Professionals & Non-TSB Grads)\n$1\,795- (TSB Alumni & Current Students)\n$1\,496- (TSB NEW students enrolling prior to orientation) \nRegister Online\n\nWhat you’ll learn-\n-Sanitation\, application\, and removal for\n-Classic Eyelash Extensions\n-Hybrid Eyelash Extensions\n-Volume Eyelash  Extensions\n-Necessary maintenance required for lash extensions\n-Current industry pricing guides \nOther Benefits–\n-Graduates receive 20% off all Sugarlash Pro supplies online (with TSB Lash Graduate Discount Code) \nFAQs\nDo I need to be a licensed cosmetologist or esthetician to enroll?\nThis class is only open to TSB students\, as well as licensed professionals\nDo I need to bring my own model?\nYes\, students will work on a total of (3) models. Students will be required to supply their own models.
URL:https://tennesseeschoolofbeauty.edu/classes/sugarlash-pro-eyelash-extensions/
LOCATION:Tennessee School of Beauty\, 4704 Western Avenue\, Knoxville\, Tennessee\, 37921\, United States
CATEGORIES:Open to licensed cosmetologists or TSB students
ORGANIZER;CN="Center for Continuing Education & Advanced Certifications at TSB":MAILTO:admissions@tennesseeschoolofbeauty.edu
END:VEVENT
END:VCALENDAR